BEGIN:VCALENDAR
VERSION:2.0
PRODID:-//Pacto Global - ECPv6.15.12//NONSGML v1.0//EN
CALSCALE:GREGORIAN
METHOD:PUBLISH
X-WR-CALNAME:Pacto Global
X-ORIGINAL-URL:https://www.pactoglobal.org.py
X-WR-CALDESC:Eventos para Pacto Global
REFRESH-INTERVAL;VALUE=DURATION:PT1H
X-Robots-Tag:noindex
X-PUBLISHED-TTL:PT1H
BEGIN:VTIMEZONE
TZID:UTC
BEGIN:STANDARD
TZOFFSETFROM:+0000
TZOFFSETTO:+0000
TZNAME:UTC
DTSTART:20220101T000000
END:STANDARD
END:VTIMEZONE
BEGIN:VEVENT
DTSTART;TZID=UTC:20231106T153000
DTEND;TZID=UTC:20231106T170000
DTSTAMP:20260424T192456
CREATED:20231030T174949Z
LAST-MODIFIED:20231030T175515Z
UID:2535-1699284600-1699290000@www.pactoglobal.org.py
SUMMARY:Webinar «Evaluación de riesgos de corrupción: conociendo los retos que enfrenta su organización”
DESCRIPTION:Les invitamos a participar del webinar «Evaluación de riesgos de corrupción: conociendo los retos que enfrenta su organización”\, que será dictado por Fabian Espejo\, Coordinador de Programas de Anticorrupción en Acción Colectiva en UN Global Compact. \n🗓️Fecha: Lunes\, 6 de noviembre\n🕜Hora: 15:30 a 16:30\n👉🏻Inscribite aquí: https://bit.ly/3QBFmGR \nOrganizado por la Mesa de Anticorrupción del Pacto Global Paraguay. \n 
URL:https://www.pactoglobal.org.py/evento-pacto-global/2535/
CATEGORIES:Eventos
ATTACH;FMTTYPE=image/png:https://www.pactoglobal.org.py/wp-content/uploads/2023/10/webinar-.png
END:VEVENT
BEGIN:VEVENT
DTSTART;TZID=UTC:20231026T080000
DTEND;TZID=UTC:20231026T120000
DTSTAMP:20260424T192456
CREATED:20231012T160348Z
LAST-MODIFIED:20231012T160348Z
UID:2511-1698307200-1698321600@www.pactoglobal.org.py
SUMMARY:Conversatorio «Hacia una Economía Verde: Perspectivas del Mercado de Carbono en Paraguay»
DESCRIPTION:Nos complace invitarlos a participar del Conversatorio Hacia una Economía Verde: Perspectivas del Mercado de Carbono en Paraguay \n🗓️Jueves\, 26 de Octubre\n🕜08:00 a 10:00 h.\n📍Salón auditorio del Pacto Global \n👉🏻Inscribite aquí: https://bit.ly/3LOofz6 \n 
URL:https://www.pactoglobal.org.py/evento-pacto-global/conversatorio-hacia-una-economia-verde-perspectivas-del-mercado-de-carbono-en-paraguay/
CATEGORIES:Eventos
ATTACH;FMTTYPE=image/jpeg:https://www.pactoglobal.org.py/wp-content/uploads/2023/10/WhatsApp-Image-2023-10-09-at-11.59.39-AM.jpeg
END:VEVENT
BEGIN:VEVENT
DTSTART;VALUE=DATE:20231017
DTEND;VALUE=DATE:20231018
DTSTAMP:20260424T192456
CREATED:20230906T192657Z
LAST-MODIFIED:20230908T202837Z
UID:2450-1697500800-1697587199@www.pactoglobal.org.py
SUMMARY:XVII Cátedra del Pacto Global de Naciones Unidas
DESCRIPTION:El Pacto Global Paraguay\, en alianza con el Pacto Global Argentina y el Pacto Global Bolivia\, lanzaron el Diplomado en Gestión del Desarrollo Sostenible denominada la “XVII Cátedra del Pacto Global de Naciones Unidas”. Un programa que cuenta con unas 30 horas de formación en la que participan diferentes líderes nacionales e internacionales en sostenibilidad corporativa y referentes de Naciones Unidas como docentes y expositores \nEste Diplomado tiene como objetivo principal fomentar la comprensión y promoción de los principios del Pacto Global de Naciones Unidas y los Objetivos de Desarrollo Sostenible (ODS) entre las empresas y organizaciones de Argentina\, Paraguay y Bolivia. El curso ofrece una oportunidad única para aprender de los mejores en el campo de la sostenibilidad y cómo las empresas pueden contribuir de manera significativa a la consecución de los ODS. \nEl programa de formación se estructura en base a los 4 pilares del Pacto Global de Naciones Unidas\, que incluyen Derechos Humanos\, Estándares Laborales\, Medio Ambiente y Anticorrupción. A través de sesiones interactivas\, los participantes podrán explorar cómo estas áreas están interconectadas y cómo las empresas pueden integrar los principios del Pacto Global en sus operaciones diarias. \nAlgunos aspectos destacados del Diplomado incluyen: \n\nExpertos Nacionales e Internacionales: Los participantes tendrán la oportunidad de aprender de expertos en sostenibilidad corporativa de renombre tanto a nivel nacional como internacional. Estos expertos compartirán sus conocimientos y experiencias para inspirar un cambio positivo en las prácticas empresariales.\nContribución a los ODS: El curso brinda a las empresas las herramientas necesarias para identificar cómo pueden contribuir de manera efectiva a los Objetivos de Desarrollo Sostenible\, ayudando así a abordar los desafíos globales más apremiantes.\nCompromiso con la Sostenibilidad: Al participar en esta Cátedra\, las organizaciones demuestran su compromiso con la sostenibilidad corporativa y el cumplimiento de los principios del Pacto Global de Naciones Unidas.\nRedes y Colaboración: El programa fomenta la colaboración entre empresas\, organizaciones y líderes de la región\, creando una red de contactos valiosa en el campo de la sostenibilidad.\n\nLa XVII Cátedra del Pacto Global de Naciones Unidas: Diplomado de Gestión del Desarrollo Sostenible es una oportunidad única para impulsar el cambio positivo y fortalecer el compromiso de las empresas con la sostenibilidad. \nLas inscripciones están abiertas hasta el 12 de octubre\, y el programa comenzará el 17 de octubre\, será de manera 100% virtual. La inversión es de USD. 150 \nPara re-inscribirse\, ingrese a https://bit.ly/catedra-2023 \nAccedé al brochure haciendo click aquí \nAcompañan a este Diplomado: Equifax y Universidad del Pacífico. 
URL:https://www.pactoglobal.org.py/evento-pacto-global/xvii-catedra-del-pacto-global-de-naciones-unidas/
CATEGORIES:Eventos
ATTACH;FMTTYPE=image/png:https://www.pactoglobal.org.py/wp-content/uploads/2023/09/PY-General.png
END:VEVENT
BEGIN:VEVENT
DTSTART;TZID=UTC:20230921T150000
DTEND;TZID=UTC:20230921T160000
DTSTAMP:20260424T192456
CREATED:20230901T190301Z
LAST-MODIFIED:20230915T152229Z
UID:2439-1695308400-1695312000@www.pactoglobal.org.py
SUMMARY:Ciclo de webinars: «Integrando los Derechos Humanos en la estrategia empresarial»
DESCRIPTION:Les invitamos al Ciclo de webinars: «Integrando los Derechos Humanos en la estrategia empresarial» organizado por la Mesa de Derechos Humanos y Laborales del Pacto Global Paraguay. 🙌 \n\nLa relación de los derechos humanos con las empresas. 4 sep\n\n\nPolíticas con enfoque de derechos humanos. 21 sep\n\n\nProceso de debida diligencia en materia de derechos humanos. 18 oct\n\n\nProcesos de remediación y promoción de los Derechos Humanos. 1 nov\n\nHora: 15:00 a 17:00 horas  \nExpositora: Carolina Hernandez \nCoordinadora en Derechos Humanos y Anticorrupción del Pacto Global Colombia \n  \nWebinar 1 – Virtual \n\nTítulo: La relación de los derechos humanos con las empresas \n\n  \nWebinar 2 – Virtual – Próximo \nMetodología: magistral 1h30min y 20 min de espacio de preguntas y respuestas. \n\nTítulo: Políticas con enfoque de derechos humanos\n\nTemas a desarrollar: \n\n¿Qué es una política con enfoque en los Derechos Humanos?\n¿Por qué debo realizar una Política de Derechos Humanos?\n¿Cómo se realiza la política de Derechos Humanos?\nEjemplos de Política o declaraciones de respeto de los derechos humanos\nPasos siguientes.\n\n  \nWebinar 3 – Virtual \nMetodología: magistral 1h30min y 20 min de espacio de preguntas y respuestas. \n\nTítulo: Proceso de debida diligencia en materia de derechos humanos\n\nTemas a desarrollar: \n\n¿Qué es la debida diligencia en Derechos Humanos?\n¿Cuándo hacer un proceso de debida diligencia en Derechos Humanos?\nDesarrollo de los 6 pasos del proceso de debida diligencia en Derechos Humanos.\nHerramientas de consulta de buenas prácticas.\n\n  \nWebinar 4: Virtual \nMetodología: magistral 1h30min y 20 min de espacio de preguntas y respuestas. \n\nTítulo: Procesos de remediación y promoción de los Derechos Humanos\n\nTemas a desarrollar: \n\n¿Qué es remediación?\n¿Qué responsabilidad tiene el Estado?\n¿Qué responsabilidad tiene la Empresa?\n¿Cómo crear mecanismos de quejas y reclamos con enfoque en derechos humanos?\n¿Por qué es importante educar y sensibilizar en derechos humanos al interior de mi organización?\n\nLink de inscripción: Exclusivo para participantes del Pacto Global \n 
URL:https://www.pactoglobal.org.py/evento-pacto-global/ciclo-de-webinars-integrando-los-derechos-humanos-en-la-estrategia-empresarial/
CATEGORIES:Eventos
ATTACH;FMTTYPE=image/png:https://www.pactoglobal.org.py/wp-content/uploads/2023/09/Ciclo-webinars-DDHH-1.png
END:VEVENT
BEGIN:VEVENT
DTSTART;TZID=UTC:20230907T080000
DTEND;TZID=UTC:20230907T120000
DTSTAMP:20260424T192456
CREATED:20230825T145523Z
LAST-MODIFIED:20230906T231805Z
UID:2429-1694073600-1694088000@www.pactoglobal.org.py
SUMMARY:Taller ”Uso eficiente de los recursos naturales: Desafíos y oportunidades hacia el desarrollo circular”
DESCRIPTION:El taller «USO EFICIENTE DE LOS RECURSOS NATURALES: Desafíos y oportunidades hacia el desarrollo circular»\, organizado por la Mesa de Ambiente del Pacto Global Paraguay\, es un espacio en donde exploraremos los desafíos y oportunidades que rodean la implementación de prácticas circulares en nuestras actividades económicas. \nEs este taller se compartirán valiosas herramientas\, experiencias y conocimientos que nos permitirán avanzar juntos en el camino hacia la sostenibilidad ambiental. Hablaremos sobre cómo este enfoque puede contribuir a un desarrollo económico en armonía con nuestro entorno. \nDetalles del taller: \n📅Fecha: 7 de septiembre \n🕓Hora: 08:00 a 12:00 \n📍Lugar: Salón Auditorio del Pacto Global Paraguay \nInscripciones: https://bit.ly/3QLoYEt \n\n\n\n\n\n\n\n\n\n\n\nAGENDA Y TIMING DEL TALLER\n\n\nInicio\nFin\nMinutos\nTema\nContexto\nDisertante\nCargo / Empresa\n\n\n8:00\n8:15\n0:15\nRecepción de participantes\n\n\n\n\n\n8:15\n8:20\n0:05\nBienvenida al espacio\n\nCristina Cano\nDirectora Ejecutiva\, Pacto Global\n\n\n8:20\n8:35\n0:15\nPresentación introductoria de la GERN y EC.\n\nKarina Fretes\nMarcelo Sabanes\nIngeniera Ambiental\nGerente de Desarrollo Sostenible y Gestión de Riesgos\, Casa Rica\n\n\n8:35\n8:50\n0:15\nUso y gestión de recursos sostenibles en la Economía\n\nSergio Sapena\nEconomista\, Asociado PKF Paraguay\n\n\n8:50\n9:05\n0:15\nEficiencia Energética y cuidado ambiental\, un atajo a la rentabilidad económica\n\nManuel Benítez Codas Filho\nGerente General\, Holiday Inn Asuncion\n\n\n9:05\n9:20\n0:15\nEconomía Circular en la Industria Textil\n\nJorge Bunchicoff\nDirector\, Blue Design\n\n\n9:05\n9:20\n0:15\nAvances en el conocimiento del valor económico y servicios ecosistémicos de los bosques del Paraguay\n\nLidia Pérez\nDocente Investigadora\, Facultad de Ciencias Agrarias de la Universidad Nacional de Asunción\n\n\n9:20\n9:30\n0:10\nRelación entre moda y agua\n\nAbhishek Shah\nGerente General\, INDOPAR\n\n\n9:30\n9:40\n0:10\nSoluciones basadas en la Naturelaza: Filtros verdes para tratamiento de aguas residuales\n\nCarla Torreani\nGerente de Gestion Sostenible del agua\, Fundación Moisés Bertoni\n\n\n9:40\n9:50\n0:10\nHaciendo rodar la Economía Circular\n\nDenise Kelly\nRomina Villalba\nGerente General\, T&D Recycling\nCoordinadora Relaciones Interinstitucionales \, T&D Recycling\n\n\n\n\nBloque Eficiencia Energética\n\n\n\n\n\n\n\n\n\n\n9:50\n10:00\n0:10\nEficiencia Energética como modelo de gestión inteligente\n\nWalter Furler\nAsesor Técnico\, CLYFSA\n\n\n10:00\n10:20\n0:20\nB R E A K\n\n\n10:20\n10:50\n0:30\nPlenaria\n\n\n\n\n\n10:50\n11:10\n0:20\nPanel Conversatorio: La Economía Circular en Acción\n\nPanelistas: Marcelo Sabanes\,\nTeo Urbieta\,\nAna Gress\nModera: Karina Fretes\nGerente de Desarrollo Sostenible y Gestión de Riesgos\, Casa Rica\nGerente de Asuntos Corporativos y Sustentabilidad\, Nutrihuevos\nGerente Administrativo\, CCI\n\n\n11:10\n11:25\n0:15\nGestión Eficiente de los recursos en el sector agropecuario del Paraguay | Experiencias e incentivos\n\nMarcelo Insaurralde\nSocio Fundador\, Desde el Suelo S.A\n\n\n11:25\n11:45\n0:20\nPolíticas públicas y Herramientas de gestión\n\nMarcelo Rodríguez\nAsociado Senior\, Ferrere Abogados\n\n\n11:45\n12:00\n0:15\nPreguntas y respuestas varias\n\n\n\n\n\nCierre del espacio\n\n\n\nCUPOS LIMITADOS  \n \n  \n  \n  \n  \n  \n  \n 
URL:https://www.pactoglobal.org.py/evento-pacto-global/taller-uso-eficiente-de-los-recursos-naturales-desafios-y-oportunidades-hacia-el-desarrollo-circular/
CATEGORIES:Eventos
ATTACH;FMTTYPE=image/png:https://www.pactoglobal.org.py/wp-content/uploads/2023/08/Taller-2-Ambiente.png
END:VEVENT
BEGIN:VEVENT
DTSTART;TZID=UTC:20230905T110000
DTEND;TZID=UTC:20230905T133000
DTSTAMP:20260424T192456
CREATED:20230823T185241Z
LAST-MODIFIED:20230823T185254Z
UID:2419-1693911600-1693920600@www.pactoglobal.org.py
SUMMARY:Hacia un futuro sostenible: «Integrando medidas de adaptación al cambio climático»
DESCRIPTION:Participá en la sesión «Hacia un futuro sostenible: Integrando medidas de adaptación al cambio climático en la estrategia empresarial» \nEn esta sesión regional\, diversos expertos y expertas proporcionarán una visión general de las medidas de adaptación al cambio climático\, así como los beneficios sociales\, económicos y ambientales de incorporarlas en las estrategias de negocio empresariales y ejemplos de empresas líderes que han logrado implementarlas con éxito. \n  \n \n🗓Fecha: 5 de septiembre\n🕜Hora: 11:00 AM Paraguay\n👉🏻Participación exclusiva para participantes del Pacto Global Paraguay \nPara más información\, contactar a: Adriana Aquino adriana.aquino@pactoglobal.org.py
URL:https://www.pactoglobal.org.py/evento-pacto-global/hacia-un-futuro-sostenible-integrando-medidas-de-adaptacion-al-cambio-climatico/
CATEGORIES:Eventos
ATTACH;FMTTYPE=image/jpeg:https://www.pactoglobal.org.py/wp-content/uploads/2023/08/CAA-Sept1cAlargado.jpg
END:VEVENT
BEGIN:VEVENT
DTSTART;TZID=UTC:20230803T090000
DTEND;TZID=UTC:20230803T120000
DTSTAMP:20260424T192456
CREATED:20230720T181512Z
LAST-MODIFIED:20230802T192417Z
UID:2347-1691053200-1691064000@www.pactoglobal.org.py
SUMMARY:Taller sobre herramientas y pasos claves para el camino a la carbono neutralidad
DESCRIPTION:Participá de nuestro próximo taller sobre Herramientas y pasos claves para el camino a la Carbono Neutralidad\, que es organizado por la Mesa de Ambiente del Pacto Global Paraguay. \nEl taller tiene como objetivo proporcionar a los participantes una visión completa de cómo las empresas pueden dar pasos concretos hacia un futuro carbono neutro. \nEl taller tendrá lugar el jueves\, 3 de agosto desde las 09:00 a 12:00 horas en el Salón auditorio del Pacto Global Paraguay. \nCUPOS LLENOS. \n  \nAgenda del espacio \n\n\n\n\nAGENDA DEL TALLER \n\n\n\n9:00\n9:10\nRecepción de participantes\n\n\n\n\n\n\n9:10\n9:20\nBienvenida al espacio\n\nPacto Global\n\n\n\n\n\nHerramientas \n\n\n\n9:20\n9:30\nGreen Cloud (modalidad virtual)\nPresentación de la plataforma Greencloud\, la cual ha desarrollado un Sistema de Gestión de Gases de Efecto Invernadero basado en normas internacionales: ISO 14064-1\, GHG Protocol e IPCC.\nMarcelo Sabanes/Camila Figueredo\n\n\n\n\n9:30\n9:50\nARKÉ\nHerramienta de medición de huella de carbono implementada por la empresa\nJorge Bernal\nGerente Técnico – Arké\n\n\n\n9:50\n10:10\nImpactive\nHerramienta implementada por Impactive para medir la huella de carbono\nFrancisco Arias\nDirector Técnico – Impactive\n\n\n\n10:10\n10:40\nMADES\nPresentación de la herramienta nacional de cálculo de medición de la huella de carbono.\nAntonella Piacentini\nJefa del Departamento de Mitigación – MADES\n\n\n\n\nIniciativas/Estudio de Caso \n\n\n\n10:40\n11:00\nRace to Zero: Impulsando la transición hacia una economía sostenible\nIntroducción a a la iniciativa Race to Zero\nKarol García\nOficial de Cambio Climático y Programas – Embajada Británica\n\n\n\n11:00\n11:10\nIniciativas: Science Based Target Iniciative\nPresentación acerca de los Objetivos Basados en Ciencia\, las implicancias para las empresas y los beneficios de adoptar los objetivos.\nMarcelo Sabanes\nGerente de Desarrollo Sostenible – Casa Rica\n\n\n\n11:10\n11:30\nEstudio de caso: Potencial de los bosques del BAAPA como sumidero de Carbono: el caso de la RNBM\nPresentación del potencial de bosques nativos del BAAPA como especies almacenadoras de carbono\nCarmen Molas\nIngeniera ambiental – Presidenta de Nación del compost\n\n\n\n\nExperiencias \n\n\n\n11:30\n11:40\nueno\nInforme sobre la medición de huella de carbono corporativa aplicada a la operativa de Financiera ueno\nCamila Figueredo\nGerente de Riesgo Ambiental y Sustentabilidad – Financiera ueno\n\n\n\n11:40\n11:50\nReal\nInforme sobre la medición de huella de carbono corporativa aplicada a la operativa de Cadena Real\nKarina Fretes\nGerente de Gestión Socioambiental – Cadena Real\n\n\n\n11:50\n12:00\nSyngenta\nInforme sobre medición de la huella de carbono en la producción agrícola\, específicamente a cultivos de maíz\, soja\, trigo y coberturas.\nAna Soria\nCoordinadora de Sustentabilidad y Negocio Responsable – Syngenta\n\n\n\n\nPresentación de Mentoría Fase II \n\n\n\n12:00\n12:10\nMedición de Huella de carbono\nApertura de la segunda fase de mentoría\, en donde 5 empresas miembro del Pacto Global tendrán la oportunidad de participar con el objetivo de iniciar el camino hacia la carbono neutralidad.\nCamila Figueredo/Marcelo Sabanes\n\n\n\n\n\nCierre del espacio
URL:https://www.pactoglobal.org.py/evento-pacto-global/taller-sobre-herramientas-y-pasos-claves-para-el-camino-a-la-carbono-neutralidad/
CATEGORIES:Eventos
ATTACH;FMTTYPE=image/png:https://www.pactoglobal.org.py/wp-content/uploads/2023/07/Invitacion-taller.png
END:VEVENT
BEGIN:VEVENT
DTSTART;VALUE=DATE:20230706
DTEND;VALUE=DATE:20230707
DTSTAMP:20260424T192456
CREATED:20230608T143010Z
LAST-MODIFIED:20230621T154515Z
UID:2103-1688601600-1688687999@www.pactoglobal.org.py
SUMMARY:1er. Congreso del Pacto Global Paraguay
DESCRIPTION:Sostenibilidad en Acción \nEsta primera edición del evento contará con expositores internacionales\, entre los cuales están: \n\nDante Pesce González. Director Ejecutivo del Centro Vincular PUCV\, Presidente del Grupo de trabajo de empresas y Derechos Humanos de las Naciones Unidas\nJuan Claudio de Oliva Maya\, CEO de Green Cloud io\, CEO de Neutraflight\, quien es experto en el desarrollo de sistemas de gestión de gases de efecto invernadero\,\nSergio Paixao\, especialista en Normas Internacionales del Trabajo y Legislación laboral (OIT)\nFilipe Guimarães\, Community Manager de CUBO Itaú\, Sao Paulo.\nJosé Antonio Alonso – Director Asuntos Corporativos\, Legal y Compliance Cervecería AB InBev\n\nEl Banco Itaú\, Cervepar e Itaipú Binacional son los presentadores de este Primer Congreso\, entre los auspiciantes está Nutrihuevos\, Perfecta y Casa Rica. Por otro lado\, Cafepar\, El Mejor\, Berkemeyer\, Cartones Yaguareté S.A\, El Mejor\, Villamorra Suites Hotel y la Embajada Británica apoyan este evento. Como Digital Partner está la empresa TEISA. \nEl Congreso está dirigido empresas que deseen aumentar sus conocimientos en materia de sostenibilidad corporativa.
URL:https://www.pactoglobal.org.py/evento-pacto-global/primer-congreso-del-pacto-global-paraguay/
LOCATION:Instituto del Banco Central del Paraguay\, Paraguay
CATEGORIES:Eventos
ATTACH;FMTTYPE=image/png:https://www.pactoglobal.org.py/wp-content/uploads/2023/06/Congreso.png
END:VEVENT
END:VCALENDAR