BEGIN:VCALENDAR
VERSION:2.0
PRODID:-//Pacto Global - ECPv6.15.12//NONSGML v1.0//EN
CALSCALE:GREGORIAN
METHOD:PUBLISH
X-WR-CALNAME:Pacto Global
X-ORIGINAL-URL:https://www.pactoglobal.org.py
X-WR-CALDESC:Eventos para Pacto Global
REFRESH-INTERVAL;VALUE=DURATION:PT1H
X-Robots-Tag:noindex
X-PUBLISHED-TTL:PT1H
BEGIN:VTIMEZONE
TZID:UTC
BEGIN:STANDARD
TZOFFSETFROM:+0000
TZOFFSETTO:+0000
TZNAME:UTC
DTSTART:20250101T000000
END:STANDARD
END:VTIMEZONE
BEGIN:VEVENT
DTSTART;TZID=UTC:20260312T160000
DTEND;TZID=UTC:20260312T203000
DTSTAMP:20260420T074927
CREATED:20260310T204010Z
LAST-MODIFIED:20260310T204010Z
UID:3837-1773331200-1773347400@www.pactoglobal.org.py
SUMMARY:Foro “ConversAcción: Reinserción como capital social. Empleo\, corresponsabilidad y desarrollo”
DESCRIPTION:El Foro “ConversAcción: Reinserción como capital social” es un espacio de diálogo entre el Estado\, el sector privado y la sociedad civil para reflexionar sobre los desafíos y oportunidades de la reinserción socio-laboral de personas privadas de libertad y egresadas del sistema penitenciario. \nDurante el encuentro se presentarán políticas públicas\, experiencias empresariales y oportunidades de articulación público-privada\, con el objetivo de promover modelos sostenibles de inclusión laboral y fortalecer la corresponsabilidad entre actores públicos y privados. \nFecha: Jueves 12 de marzoHorario: 16:00 a 20:30 hsLugar: Centro de Convenciones del Paseo La Galería – Torre 1\, Piso 9 – Salón Bicentenario \nOrganizan: Ministerio de Justicia y Centro de Estudios Judiciales\, con el financiamiento de la Unión Europea.Apoyan: Pacto Global Paraguay y Sistema B. \nLa actividad es de acceso libre y gratuito. \nInscripciones:https://forms.gle/CguNLeWvrXTTRHHh9 \nMás información:Alejandra MendozaDirectora Ejecutiva – Latido | Consultora Estratégica📞 +595 981 983666
URL:https://www.pactoglobal.org.py/evento-pacto-global/foro-conversaccion-reinsercion-como-capital-social-empleo-corresponsabilidad-y-desarrollo/
LOCATION:Asunción
CATEGORIES:Eventos
ATTACH;FMTTYPE=image/png:https://www.pactoglobal.org.py/wp-content/uploads/2026/03/Invitacion-Foro-ConversAccion.png
END:VEVENT
BEGIN:VEVENT
DTSTART;VALUE=DATE:20260325
DTEND;VALUE=DATE:20260327
DTSTAMP:20260420T074927
CREATED:20260316T123725Z
LAST-MODIFIED:20260316T123725Z
UID:3858-1774396800-1774569599@www.pactoglobal.org.py
SUMMARY:Carbon Forum Paraguay 2026
DESCRIPTION:Paraguay se encuentra en una etapa clave de consolidación de su agenda climática y de desarrollo sostenible 🌍. Con una matriz energética compuesta en más de un 90% por fuentes renovables ⚡ y un marco macroeconómico estable\, el país cuenta con condiciones excepcionales para liderar la transición hacia una economía baja en carbono.\nEl Paraguay Carbon Forum tiene como propósito consolidar al país como un hub regional para la inversión climática\, la cooperación técnica y el desarrollo de mercados de carbono de alta calidad.\nEl evento busca reunir a representantes del sector público\, financiero\, empresarial y de organismos internacionales para movilizar inversiones\, generar alianzas estratégicas 🤝🏼y fortalecer la confianza en el marco institucional paraguayo. \n📅 Fecha: 25 y 26 de marzo de 2026.\n🕘 Horario: 09:00 a.m. – 06:00 p.m. Hora Paraguay.\n📍 Sede: Sheraton Asunción Hotel\, Asunción\, Paraguay. \n🎟 Registro: Gratuito aquí!\n¡Acompáñanos al evento de Mercados de Carbono más importante del país! 🌱
URL:https://www.pactoglobal.org.py/evento-pacto-global/carbon-forum-paraguay-2026/
LOCATION:Sheraton\, Av Aviadores del Chaco\, Asunción\, Asunción\, Paraguay
CATEGORIES:Eventos
ATTACH;FMTTYPE=image/jpeg:https://www.pactoglobal.org.py/wp-content/uploads/2026/03/Invitacion-Carbon-Forum-Paraguay_apoya-Pacto-Global-Paraguay.jpeg
END:VEVENT
END:VCALENDAR